BEGIN:VCALENDAR
VERSION:2.0
PRODID:-//eventon.com NONSGML v1.0//EN
CALSCALE:GREGORIAN
METHOD:PUBLISH
BEGIN:VEVENT
UID:69e73f35f2f2a
DTSTAMP:20260421T091117Z
DTSTART:20260406T153000Z
DTEND:20260406T183000Z
LOCATION:The Mind Wellbeing Centre 3-11 Drake Street\,  Rochdale OL16 1RE
SUMMARY:Listening Lounge
DESCRIPTION:The Wellbeing workers in the Listening Lounge are trained profe
 ssionals who are there to help you when you are struggling with your mental
  health. They are there to listen\,  be supportive and help you on a path t
 o recovery. This is a safe space where we can help you access[..]\nhttps://
 www.rochdalemind.org.uk/events/listening-lounge-rochdale-monday/var/ri-49.l
 -L1
URL:https://www.rochdalemind.org.uk/events/listening-lounge-rochdale-monday/var/ri-49.l-L1
END:VEVENT
END:VCALENDAR