BEGIN:VCALENDAR
VERSION:2.0
PRODID:-//eventon.com NONSGML v1.0//EN
CALSCALE:GREGORIAN
METHOD:PUBLISH
BEGIN:VEVENT
UID:69e5e0c9c8473
DTSTAMP:20260420T081609Z
DTSTART:20250827T090000Z
DTEND:20250827T170000Z
LOCATION:Middleton Wellbeing Hub 14a-16 Wood Street\,  Middleton\,  M24 5TF
SUMMARY:One-to-one counselling
DESCRIPTION:This is a service provided by The Big Life Group. For more info
 rmation\,  please visit their website. You can find a copy of The Big Life
  Group’s Self-Referral from here.\nhttps://www.rochdalemind.org.uk/event
 s/one-to-one-counselling/
URL:https://www.rochdalemind.org.uk/events/one-to-one-counselling/
END:VEVENT
END:VCALENDAR