BEGIN:VCALENDAR
VERSION:2.0
PRODID:-//eventon.com NONSGML v1.0//EN
CALSCALE:GREGORIAN
METHOD:PUBLISH
BEGIN:VEVENT
UID:69e73d2ec912f
DTSTAMP:20260421T090238Z
DTSTART:20261116T130000Z
DTEND:20261116T143000Z
LOCATION:The Mind Wellbeing Centre 3-11 Drake Street\,  Rochdale OL16 1RE
SUMMARY:Social Space Drop-In
DESCRIPTION:A safe\,  no pressure environment where people can connect and 
 have fun. We chat about all sorts &#8211; from TV shows to hobbies and more
 !\nhttps://www.rochdalemind.org.uk/events/social-space-drop-in-2/var/ri-41.
 l-L1
URL:https://www.rochdalemind.org.uk/events/social-space-drop-in-2/var/ri-41.l-L1
END:VEVENT
END:VCALENDAR